BEGIN:VCALENDAR
VERSION:2.0
PRODID:-//IGBO - ECPv6.15.18//NONSGML v1.0//EN
CALSCALE:GREGORIAN
METHOD:PUBLISH
X-WR-CALNAME:IGBO
X-ORIGINAL-URL:https://www.igbo.org
X-WR-CALDESC:Events for IGBO
REFRESH-INTERVAL;VALUE=DURATION:PT1H
X-Robots-Tag:noindex
X-PUBLISHED-TTL:PT1H
BEGIN:VTIMEZONE
TZID:UTC
BEGIN:STANDARD
TZOFFSETFROM:+0000
TZOFFSETTO:+0000
TZNAME:UTC
DTSTART:20250101T000000
END:STANDARD
END:VTIMEZONE
BEGIN:VTIMEZONE
TZID:America/Los_Angeles
BEGIN:DAYLIGHT
TZOFFSETFROM:-0800
TZOFFSETTO:-0700
TZNAME:PDT
DTSTART:20250309T100000
END:DAYLIGHT
BEGIN:STANDARD
TZOFFSETFROM:-0700
TZOFFSETTO:-0800
TZNAME:PST
DTSTART:20251102T090000
END:STANDARD
BEGIN:DAYLIGHT
TZOFFSETFROM:-0800
TZOFFSETTO:-0700
TZNAME:PDT
DTSTART:20260308T100000
END:DAYLIGHT
BEGIN:STANDARD
TZOFFSETFROM:-0700
TZOFFSETTO:-0800
TZNAME:PST
DTSTART:20261101T090000
END:STANDARD
BEGIN:DAYLIGHT
TZOFFSETFROM:-0800
TZOFFSETTO:-0700
TZNAME:PDT
DTSTART:20270314T100000
END:DAYLIGHT
BEGIN:STANDARD
TZOFFSETFROM:-0700
TZOFFSETTO:-0800
TZNAME:PST
DTSTART:20271107T090000
END:STANDARD
END:VTIMEZONE
BEGIN:VTIMEZONE
TZID:UTC
BEGIN:STANDARD
TZOFFSETFROM:+0000
TZOFFSETTO:+0000
TZNAME:UTC
DTSTART:20250101T000000
END:STANDARD
END:VTIMEZONE
BEGIN:VTIMEZONE
TZID:America/Chicago
BEGIN:DAYLIGHT
TZOFFSETFROM:-0600
TZOFFSETTO:-0500
TZNAME:CDT
DTSTART:20250309T080000
END:DAYLIGHT
BEGIN:STANDARD
TZOFFSETFROM:-0500
TZOFFSETTO:-0600
TZNAME:CST
DTSTART:20251102T070000
END:STANDARD
BEGIN:DAYLIGHT
TZOFFSETFROM:-0600
TZOFFSETTO:-0500
TZNAME:CDT
DTSTART:20260308T080000
END:DAYLIGHT
BEGIN:STANDARD
TZOFFSETFROM:-0500
TZOFFSETTO:-0600
TZNAME:CST
DTSTART:20261101T070000
END:STANDARD
BEGIN:DAYLIGHT
TZOFFSETFROM:-0600
TZOFFSETTO:-0500
TZNAME:CDT
DTSTART:20270314T080000
END:DAYLIGHT
BEGIN:STANDARD
TZOFFSETFROM:-0500
TZOFFSETTO:-0600
TZNAME:CST
DTSTART:20271107T070000
END:STANDARD
END:VTIMEZONE
BEGIN:VTIMEZONE
TZID:America/Los_Angeles
BEGIN:DAYLIGHT
TZOFFSETFROM:-0800
TZOFFSETTO:-0700
TZNAME:PDT
DTSTART:20250309T100000
END:DAYLIGHT
BEGIN:STANDARD
TZOFFSETFROM:-0700
TZOFFSETTO:-0800
TZNAME:PST
DTSTART:20251102T090000
END:STANDARD
BEGIN:DAYLIGHT
TZOFFSETFROM:-0800
TZOFFSETTO:-0700
TZNAME:PDT
DTSTART:20260308T100000
END:DAYLIGHT
BEGIN:STANDARD
TZOFFSETFROM:-0700
TZOFFSETTO:-0800
TZNAME:PST
DTSTART:20261101T090000
END:STANDARD
BEGIN:DAYLIGHT
TZOFFSETFROM:-0800
TZOFFSETTO:-0700
TZNAME:PDT
DTSTART:20270314T100000
END:DAYLIGHT
BEGIN:STANDARD
TZOFFSETFROM:-0700
TZOFFSETTO:-0800
TZNAME:PST
DTSTART:20271107T090000
END:STANDARD
END:VTIMEZONE
BEGIN:VEVENT
DTSTART;VALUE=DATE:20260424
DTEND;VALUE=DATE:20260427
DTSTAMP:20260419T222116
CREATED:20240302T042524Z
LAST-MODIFIED:20250812T024035Z
UID:32859-1776988800-1777247999@www.igbo.org
SUMMARY:California Spring Classic
DESCRIPTION:Text about the CSC tournament.
URL:https://www.igbo.org/tournament/csc/
LOCATION:Forest Lanes\, 22771 Centre Dr\, Lake Forest\, CA\, 92630\, United States
CATEGORIES:West Coast/Pacific Nations
ATTACH;FMTTYPE=image/png:https://www.igbo.org/wp-content/uploads/2024/12/California-Spring-Classic.png
ORGANIZER;CN="CSC Contact":MAILTO:info@funlovers.com
END:VEVENT
BEGIN:VEVENT
DTSTART;VALUE=DATE:20260424
DTEND;VALUE=DATE:20260427
DTSTAMP:20260419T222116
CREATED:20250106T032646Z
LAST-MODIFIED:20250407T020507Z
UID:33188-1776988800-1777247999@www.igbo.org
SUMMARY:Columbus Ohio Midwest Invitational Classic (COMIC)
DESCRIPTION:
URL:https://www.igbo.org/tournament/columbus-ohio-midwest-invitational-classic/
LOCATION:HP Lanes\, 2012 Innis Rd\, Columbus\, OH\, 43224\, United States
CATEGORIES:North American Heartland
ATTACH;FMTTYPE=image/png:https://www.igbo.org/wp-content/uploads/2025/01/Columbus-Ohio-Midwest-Invitational.png
ORGANIZER;CN="James Sorenson":MAILTO:registration@columbuscomictournament.org
END:VEVENT
BEGIN:VEVENT
DTSTART;TZID=UTC:20260501T170000
DTEND;TZID=UTC:20260503T220000
DTSTAMP:20260419T222116
CREATED:20241230T045002Z
LAST-MODIFIED:20241230T045002Z
UID:32902-1777654800-1777845600@www.igbo.org
SUMMARY:Greater Rochester Eastern Area Tournament
DESCRIPTION:
URL:https://www.igbo.org/tournament/greater-rochester-eastern-area-tournament/
LOCATION:ABC Gates Bowl\, 645 Spencerport Rd\, Gates\, NY\, 14606\, United States
CATEGORIES:Northeast/Europe
ATTACH;FMTTYPE=image/png:https://www.igbo.org/wp-content/uploads/2024/12/GREAT.png
ORGANIZER;CN="Bill Heinz":MAILTO:info@bowlgreat.org
END:VEVENT
BEGIN:VEVENT
DTSTART;VALUE=DATE:20260514
DTEND;VALUE=DATE:20260518
DTSTAMP:20260419T222116
CREATED:20250126T044419Z
LAST-MODIFIED:20250218T061141Z
UID:33321-1778716800-1779062399@www.igbo.org
SUMMARY:IGBO Annual 2026
DESCRIPTION:Text about the IGO annual tournament.
URL:https://www.igbo.org/tournament/igbo-annual-2026/
LOCATION:CA
ATTACH;FMTTYPE=image/png:https://www.igbo.org/wp-content/uploads/2025/01/IGBO-annual-2026.png
END:VEVENT
BEGIN:VEVENT
DTSTART;VALUE=DATE:20260605
DTEND;VALUE=DATE:20260608
DTSTAMP:20260419T222116
CREATED:20250129T024813Z
LAST-MODIFIED:20260301T212825Z
UID:33342-1780617600-1780876799@www.igbo.org
SUMMARY:Rose Bowl Classic
DESCRIPTION:
URL:https://www.igbo.org/tournament/rose-bowl-classic/
LOCATION:Kingpins\, 3550 SE 92ND AVE\, Portland\, OR\, 97266\, United States
CATEGORIES:West Coast/Pacific Nations
ATTACH;FMTTYPE=image/svg+xml:https://www.igbo.org/wp-content/uploads/2025/02/rose-bowl-classic-CJL.svg
ORGANIZER;CN="Mike Bartholomew":MAILTO:7tensplitbowling@gmail.com
END:VEVENT
BEGIN:VEVENT
DTSTART;VALUE=DATE:20260612
DTEND;VALUE=DATE:20260615
DTSTAMP:20260419T222116
CREATED:20241230T043630Z
LAST-MODIFIED:20241230T043647Z
UID:32880-1781222400-1781481599@www.igbo.org
SUMMARY:Cleveland GIFT Bowling Tournament
DESCRIPTION:Cleveland GIFT invites you to join us for our 36th tournament on June 12-14\, 2026! \nSINGLES\, DOUBLES\, TEAM\, \n9 PIN NO TAP\, OPTIONAL SCRATCH\, SENIORS 55+\, \nDARK HORSE DOUBLES\, SCRATCH MASTERS\, \nBRACKETS AND RAFFLES \n  \nREGISTRATION WILL OPEN AROUND APRIL 1\, 2026 \nENTRY FEE: TBD \n  \nHOTEL INFORMATION – COMING SOON!
URL:https://www.igbo.org/tournament/cleveland-gift-bowling-tournament/
LOCATION:AMF Brookgate\, 14950 Snow Rd\, Brook Park\, OH\, 44142\, United States
CATEGORIES:North American Heartland
ATTACH;FMTTYPE=image/png:https://www.igbo.org/wp-content/uploads/2024/12/Cleveland-GIFT.png
ORGANIZER;CN="Bill Huepenbecker":MAILTO:billhuep@hotmail.com
END:VEVENT
BEGIN:VEVENT
DTSTART;TZID=America/Los_Angeles:20260620T110000
DTEND;TZID=America/Los_Angeles:20260620T170000
DTSTAMP:20260419T222116
CREATED:20250106T030426Z
LAST-MODIFIED:20260305T233728Z
UID:33177-1781953200-1781974800@www.igbo.org
SUMMARY:Hugs Doubles Bowling Tournament
DESCRIPTION:
URL:https://www.igbo.org/tournament/hugs-doubles-bowling-tournament/
LOCATION:Westminster Lanes\, 6471 Westminster Blvd\, Westminster\, CA\, 92683\, United States
CATEGORIES:West Coast/Pacific Nations
ATTACH;FMTTYPE=image/png:https://www.igbo.org/wp-content/uploads/2025/01/Hugs-Doubles-Bowling-Tournament.png
ORGANIZER;CN="Darrell Linderman":MAILTO:darrelllinderman@gmail.com
END:VEVENT
BEGIN:VEVENT
DTSTART;VALUE=DATE:20260703
DTEND;VALUE=DATE:20260706
DTSTAMP:20260419T222116
CREATED:20241230T045637Z
LAST-MODIFIED:20241230T045637Z
UID:32916-1783036800-1783295999@www.igbo.org
SUMMARY:Liberty Belle Invitational
DESCRIPTION:
URL:https://www.igbo.org/tournament/liberty-belle-invitational/
LOCATION:Laurel Lanes\, 2825 NJ-73\, Maple Shade\, NJ\, 08052\, United States
CATEGORIES:Northeast/Europe
ATTACH;FMTTYPE=image/png:https://www.igbo.org/wp-content/uploads/2024/12/Liberty-Belle-Invitational.png
ORGANIZER;CN="Doug DiPasquale":MAILTO:dougdipasquale@libertybelle.org
END:VEVENT
BEGIN:VEVENT
DTSTART;VALUE=DATE:20260703
DTEND;VALUE=DATE:20260706
DTSTAMP:20260419T222116
CREATED:20250106T034929Z
LAST-MODIFIED:20250106T045427Z
UID:33194-1783036800-1783295999@www.igbo.org
SUMMARY:Menopause - The Tournament aka MENO/MANO
DESCRIPTION:July 3-5  2026 Jacksonville\, Fl will host our annual women’s tournament. This tournament is two tournaments in one. We have an all-women’s tournament alongside an all-men’s tournament. We will feature cross over mega brackets. All other side pots will be all women or all men.
URL:https://www.igbo.org/tournament/menopause-the-tournament/
LOCATION:CA
CATEGORIES:Southern
ATTACH;FMTTYPE=image/png:https://www.igbo.org/wp-content/uploads/2025/01/Menopause-The-Tournament.png
END:VEVENT
BEGIN:VEVENT
DTSTART;VALUE=DATE:20260703
DTEND;VALUE=DATE:20260706
DTSTAMP:20260419T222116
CREATED:20250106T032344Z
LAST-MODIFIED:20250502T025357Z
UID:33185-1783101600-1783274400@www.igbo.org
SUMMARY:Seniors Handicap Invitational Family Tournament
DESCRIPTION:Welcome to our 4th Seniors Handicap Invitation Family Tournament (SHIFTID). \nOur tournament is for those bowlers who are 50 years old or older (verification will be requested at tournament check-in on Friday evening or Saturday morning). \nRegistration opens May 1st and will close on Jun 26th so get your entry / team entries in as we are limited to 50 teams (200 bowlers) this year. \nWe have Scratch Masters\, Optional Scratch\, Mystery Score\, 3 of 9\, Mega Brackets\, and 4th of July Raffle Tickets (Pre-Sales 150 tickets for $50 or 250 tickets for $75). \nYou MUST be a IGBO member prior to bowling\, so please if you do not already bowl in a IGBO league or a current Associate Member go to IGBO.ORG / Membership / Join
URL:https://www.igbo.org/tournament/seniors-handicap-invitational-family-tournament/
LOCATION:Cityview\, 6601 Oakmont Blvd\, Fort Worth\, 76132\, United States
CATEGORIES:Central Plains
ATTACH;FMTTYPE=image/png:https://www.igbo.org/wp-content/uploads/2025/04/LOGO-SHIFTID.png
ORGANIZER;CN="Joseph Puckett":MAILTO:treasurer@shiftid.org
END:VEVENT
BEGIN:VEVENT
DTSTART;TZID=UTC:20260717T170000
DTEND;TZID=UTC:20260719T190000
DTSTAMP:20260419T222116
CREATED:20250729T065527Z
LAST-MODIFIED:20250729T065529Z
UID:33269-1784307600-1784487600@www.igbo.org
SUMMARY:Missouri and Kansas Invitational Tournament
DESCRIPTION:Join us in Kansas City—the Heart of America—for our 33rd annual tournament! With two shifts and 48 teams\, this event fills up fast year after year. Don’t miss your chance to compete alongside bowlers from across the country!
URL:https://www.igbo.org/tournament/missouri-kansas-invitational/
LOCATION:Olathe Lanes East\, 303 N Lindenwood Dr\,\, Olathe\, KS\, 66062\, United States
CATEGORIES:Central Plains
ATTACH;FMTTYPE=image/png:https://www.igbo.org/wp-content/uploads/2025/01/MAKIT_logo-no-background-Alan-Emmons.png
ORGANIZER;CN="Alan Emmons":MAILTO:alan.j.emmons@gmail.com
END:VEVENT
BEGIN:VEVENT
DTSTART;VALUE=DATE:20260731
DTEND;VALUE=DATE:20260803
DTSTAMP:20260419T222116
CREATED:20241230T051851Z
LAST-MODIFIED:20250607T033835Z
UID:32941-1785456000-1785715199@www.igbo.org
SUMMARY:San Diego Invitational Tournament (SDIT)
DESCRIPTION:
URL:https://www.igbo.org/tournament/san-diego-invitational-tournament/
LOCATION:Mira Mesa Lanes\, 8210 Mira Mesa Blvd\, San Diego\, CA\, 92126\, United States
CATEGORIES:West Coast/Pacific Nations
ATTACH;FMTTYPE=image/png:https://www.igbo.org/wp-content/uploads/2024/12/sdit_logo_horizontal.png
ORGANIZER;CN="SDIT Committee":MAILTO:info@bowlsdit.org
END:VEVENT
BEGIN:VEVENT
DTSTART;VALUE=DATE:20260731
DTEND;VALUE=DATE:20260803
DTSTAMP:20260419T222116
CREATED:20241230T051607Z
LAST-MODIFIED:20241230T051607Z
UID:32934-1785456000-1785715199@www.igbo.org
SUMMARY:Rocket City Invitational
DESCRIPTION:
URL:https://www.igbo.org/tournament/rocket-city-invitational/
LOCATION:Redstone Lanes\, 3424 Hercules Rd\, AL\, 35898\, United States
CATEGORIES:Southern
ATTACH;FMTTYPE=image/png:https://www.igbo.org/wp-content/uploads/2024/12/Rocket-City-Invitational.png
ORGANIZER;CN="Doug Harding":MAILTO:dharding1326@gmail.com
END:VEVENT
BEGIN:VEVENT
DTSTART;VALUE=DATE:20260807
DTEND;VALUE=DATE:20260810
DTSTAMP:20260419T222116
CREATED:20241230T041816Z
LAST-MODIFIED:20250129T024013Z
UID:32844-1786060800-1786319999@www.igbo.org
SUMMARY:Big D Classic
DESCRIPTION:Come join us for the 23rd Big D Classic tournament\, we would love to have you!  Our tournament features a maximum of 46 teams (one shift)\, Scratch Shootout\, Rainbow Raffle\, 50/50 Raffles each shift benefiting our charities\, Mystery Score\, BIG Eliminator\, Mega Brackets\, regular brackets\, and so much more!  Registration sign-up and payment is all online at www.bigdclassic.com\, opening in early May!
URL:https://www.igbo.org/tournament/big-d-classic-invitational/
LOCATION:Plano Super Bowl\, 2521 K Ave\, Plano\, TX\, 75074\, United States
CATEGORIES:Central Plains
ATTACH;FMTTYPE=image/png:https://www.igbo.org/wp-content/uploads/2024/12/Big-D-Classic.png
ORGANIZER;CN="Jose Aguilar":MAILTO:jaeagle1977@gmail.com
END:VEVENT
BEGIN:VEVENT
DTSTART;TZID=UTC:20260807T180000
DTEND;TZID=UTC:20260809T180000
DTSTAMP:20260419T222116
CREATED:20241230T042737Z
LAST-MODIFIED:20241230T042737Z
UID:32862-1786125600-1786298400@www.igbo.org
SUMMARY:Capital Area Pride Invitational
DESCRIPTION:The Capital Area Pride Invitational Tournament is dedicated to bringing together the LGBTQ+ community and allies through the unifying power of bowling. Our mission is to create an inclusive\, welcoming\, and celebratory space where everyone feels valued\, respected\, and empowered to express their true selves. \nThrough friendly competition and shared experiences\, we aim to foster a sense of unity and break down barriers\, promoting acceptance and understanding for LGBTQ+ individuals. We believe that sports and activities serve as a powerful platform to connect people and raise awareness of LGBTQ+ issues. \nOur event is rooted in fairness\, respect\, and diversity\, offering a space where participants of all backgrounds and skill levels can engage\, learn\, and have fun. We are also proud to collaborate with local organizations to further support the LGBTQ+ community\, extending our impact beyond the event itself.
URL:https://www.igbo.org/tournament/capital-area-pride-invitational/
LOCATION:Sportmans Bowl\, 1652 Crane St\, Schenectady\, NY\, 12303\, United States
CATEGORIES:Northeast/Europe
ATTACH;FMTTYPE=image/png:https://www.igbo.org/wp-content/uploads/2024/12/Capital-Area-Pride-Invitational.png
ORGANIZER;CN="Dan Knutti":MAILTO:capareaprideinv@gmail.com
END:VEVENT
BEGIN:VEVENT
DTSTART;VALUE=DATE:20260814
DTEND;VALUE=DATE:20260817
DTSTAMP:20260419T222116
CREATED:20250106T061006Z
LAST-MODIFIED:20250702T083120Z
UID:33253-1786665600-1786924799@www.igbo.org
SUMMARY:The Greater Indianapolis Fall Classic
DESCRIPTION:The Greater Indianapolis Fall Classic (TGIF) is an international LGBTQIA+ bowling tournament that provides fellowship through amateur competition. This is our 30th anniversary tournament and we are planning on an exceptional year for you! \nTGIF will be held on August 14th to August 16\, 2026\, and we look forward to showing you some Hoosier hospitality as we celebrate the LGBTQIA+ community\, enjoy friendly competition\, and raise funds for some great local charities.
URL:https://www.igbo.org/tournament/the-greater-indianapolis-fall-classic/
LOCATION:Royal Pin Western\, 6441 W Washington Street\, Indianapolis\, IN\, 46241\, United States
CATEGORIES:North American Heartland
ATTACH;FMTTYPE=image/png:https://www.igbo.org/wp-content/uploads/2025/01/The-Greater_Indianapolis-Fall-Classic.png
ORGANIZER;CN="Lucas Phillips":MAILTO:director@tgif-classic.org
END:VEVENT
BEGIN:VEVENT
DTSTART;VALUE=DATE:20260814
DTEND;VALUE=DATE:20260817
DTSTAMP:20260419T222116
CREATED:20260203T231746Z
LAST-MODIFIED:20260203T235659Z
UID:37951-1786665600-1786924799@www.igbo.org
SUMMARY:Wine Country Classic
DESCRIPTION:
URL:https://www.igbo.org/tournament/wine-country-classic/
LOCATION:Double Decker Lanes\, 300 Golf Course Drive\, Rohnert Park\, CA\, 94928\, United States
CATEGORIES:West Coast/Pacific Nations
ATTACH;FMTTYPE=image/png:https://www.igbo.org/wp-content/uploads/2026/02/wcc_2026.png
ORGANIZER;CN="Christopher Mahurin":MAILTO:SonomaCountyPrideBowling@gmail.com
END:VEVENT
BEGIN:VEVENT
DTSTART;VALUE=DATE:20260904
DTEND;VALUE=DATE:20260907
DTSTAMP:20260419T222116
CREATED:20241230T044237Z
LAST-MODIFIED:20241230T044500Z
UID:32888-1788480000-1788739199@www.igbo.org
SUMMARY:Everyone Loves Vegas in September
DESCRIPTION:Welcome Elvis Bowlers \nRegistration Opens May 4\, 2026
URL:https://www.igbo.org/tournament/everyone-loves-vegas-in-september/
LOCATION:Sams Town\, 5111 Boulder Highway\, Las Vegas\, NV\, 89122\, United States
CATEGORIES:Rocky Mountain
ATTACH;FMTTYPE=image/png:https://www.igbo.org/wp-content/uploads/2024/12/Elvis-Vegas.png
ORGANIZER;CN="Byron Catalan":MAILTO:info@igbo2025.org
END:VEVENT
BEGIN:VEVENT
DTSTART;VALUE=DATE:20260904
DTEND;VALUE=DATE:20260907
DTSTAMP:20260419T222116
CREATED:20250106T042945Z
LAST-MODIFIED:20250106T045906Z
UID:33204-1788480000-1788739199@www.igbo.org
SUMMARY:ORBIT Raleigh Bowling Invitational Tournament
DESCRIPTION:We host ORBIT Raleigh Bowling Invitational Tournament in Raleigh\, NC\, every Labor Day weekend. \nWe cap registration at 160 bowlers (40 teams) and will open registration in May. \nFind our Facebook page for regular announcements: \n\nhttps://www.facebook.com/groups/1865825810859901\n\n 
URL:https://www.igbo.org/tournament/orbit-raleigh-bowling-invitational-tournament/
LOCATION:Bowlero Raleigh\, 5501 Commercial Ave\, Raleigh\, NC\, 27612\, United States
CATEGORIES:Southern
ATTACH;FMTTYPE=image/png:https://www.igbo.org/wp-content/uploads/2026/01/IMG_8233-scaled.png
ORGANIZER;CN="Paul Daniels":MAILTO:pauldaniels@bowlorbitnc.org
END:VEVENT
BEGIN:VEVENT
DTSTART;VALUE=DATE:20260904
DTEND;VALUE=DATE:20260907
DTSTAMP:20260419T222116
CREATED:20250106T051132Z
LAST-MODIFIED:20250129T020121Z
UID:33229-1788480000-1788739199@www.igbo.org
SUMMARY:Show Me St. Louis Classic
DESCRIPTION:The Show Me St. Louis Classic Invitational Bowling Tournament is held every Labor Day weekend in St. Louis\, Missouri. The Tournament draws bowlers from around the country and internationally.  It is dedicated to amateur bowling for all persons of any identity\, with an emphasis on education and participation of the LGBTQIA+ community.
URL:https://www.igbo.org/tournament/show-me-st-louis-classic/
LOCATION:Concord Bowl\, 11801 Tesson Ferry Rd\, St. Louis\, MO\, 63128\, United States
CATEGORIES:Central Plains
ATTACH;FMTTYPE=image/jpeg:https://www.igbo.org/wp-content/uploads/2025/04/SMC-40th-Anniv-Logo.jpg
ORGANIZER;CN="Stephen Bodine":MAILTO:stlouisguy99@sbcglobal.net
END:VEVENT
BEGIN:VEVENT
DTSTART;TZID=UTC:20260911T190000
DTEND;TZID=UTC:20260913T210000
DTSTAMP:20260419T222116
CREATED:20250409T031209Z
LAST-MODIFIED:20250702T083107Z
UID:32871-1789153200-1789333200@www.igbo.org
SUMMARY:Chi-Town Classic
DESCRIPTION:Chi-Town ClassicBowling Tournament\n\n\nSeptember 11\, 2026 to September 13\, 2026 \nRegistration Opens June 2026 \n\n\n\n\n\n\n\nIn 2026\, Chicago will host its second annual IGBO affiliated bowling tournament.  The Chi-Town Classic Bowling Tournament (CHIC) will once again be held at Waveland Bowl the second weekend of September. Watch for registration to open in early June.
URL:https://www.igbo.org/tournament/chi-town-classic/
LOCATION:Waveland Bowl\, 3700 N Western Ave\, Chicago\, IL\, 60618\, United States
CATEGORIES:North American Heartland
ATTACH;FMTTYPE=image/png:https://www.igbo.org/wp-content/uploads/2024/12/Chi-Town-Classic.png
ORGANIZER;CN="Jason Kallen":MAILTO:secretary.chic26@gmail.com
END:VEVENT
BEGIN:VEVENT
DTSTART;VALUE=DATE:20260925
DTEND;VALUE=DATE:20260928
DTSTAMP:20260419T222116
CREATED:20241230T045453Z
LAST-MODIFIED:20241230T045453Z
UID:32912-1790294400-1790553599@www.igbo.org
SUMMARY:Jersey Rainbow Classic
DESCRIPTION:ONCE UPON A TIME IN JERSEY . . .  PRINCESSES VS. VILLAINS!!! \nWelcome to the 4th Annual Jersey Rainbow Classic!  An Enchanted Event! \nFollow your favorite fairy tale to our 4th fabulous fete\, full of fun and festivities for all! \nChoose your favorite Princess or Villain\, channel their energy and cast your spell full of strikes and wish for your dreams to come true!
URL:https://www.igbo.org/tournament/jersey-rainbow-classic/
LOCATION:Bowler City\, 85 Midtown Bridge St\, Hackensack\, 07601\, United States
CATEGORIES:Northeast/Europe
ATTACH;FMTTYPE=image/png:https://www.igbo.org/wp-content/uploads/2024/12/Jersey-Rainbow-Classic.png
ORGANIZER;CN="Raffy Rodriguez":MAILTO:jerseyrainbowclassic@gmail.com
END:VEVENT
BEGIN:VEVENT
DTSTART;VALUE=DATE:20261002
DTEND;VALUE=DATE:20261005
DTSTAMP:20260419T222116
CREATED:20250106T040840Z
LAST-MODIFIED:20251017T213338Z
UID:33199-1790899200-1791158399@www.igbo.org
SUMMARY:Motown Invitational Classic
DESCRIPTION:The Motown Invitational Classic (MIC) is revving up for an unforgettable 2026 tournament! While planning is still underway\, we’re already laying the groundwork for another high-energy celebration of competition\, community\, and Detroit pride. Be sure to mark your calendars and stay tuned—details are coming soon\, and you won’t want to miss what we have in store!
URL:https://www.igbo.org/tournament/motown-invitational-classic/
LOCATION:Spins Bowl\, 45100 Ford Rd\, Canton\, MI\, 48187\, United States
CATEGORIES:North American Heartland
ATTACH;FMTTYPE=image/png:https://www.igbo.org/wp-content/uploads/2025/01/Motown-Invitational-Classic.png
ORGANIZER;CN="Scot LaNear":MAILTO:director@mictournament.org
END:VEVENT
BEGIN:VEVENT
DTSTART;VALUE=DATE:20261009
DTEND;VALUE=DATE:20261012
DTSTAMP:20260419T222116
CREATED:20250106T050639Z
LAST-MODIFIED:20250106T050639Z
UID:33226-1791504000-1791763199@www.igbo.org
SUMMARY:Rivercity Invitational October Tournament
DESCRIPTION:Rivercity Invitational October Tournament 2026 will be held in Jacksonville\, Fl Oct 9-12 2026. This year we will have 3 shifts and sell out at 288 bowlers. We will be using two bowling houses. Singles and Doubles will be held at Jax Lanes and Teams will be held at Batt Family Fun Center. Hospitality Suite will open at 5pm on Thursday Oct 9th. We will have Hospitality Thursday\, Friday and Saturday. If you are interested in joining us\, please send us an email and we will add you to our invitation list. We look forward to seeing everyone again this year. \n 
URL:https://www.igbo.org/tournament/rivercity-invitational-october-tournament/
LOCATION:Jax Lanes\, 8720 Beach Blvd\, Jacksonville\, FL\, 32216\, United States
CATEGORIES:Southern
ATTACH;FMTTYPE=image/png:https://www.igbo.org/wp-content/uploads/2025/01/Rivercity-Invitational-October.png
ORGANIZER;CN="Timothy Locke":MAILTO:director@riotrivercity.com
END:VEVENT
BEGIN:VEVENT
DTSTART;VALUE=DATE:20261015
DTEND;VALUE=DATE:20261020
DTSTAMP:20260419T222116
CREATED:20241230T050235Z
LAST-MODIFIED:20260404T213039Z
UID:32928-1792022400-1792454399@www.igbo.org
SUMMARY:PSDIC 20th Anniversary Bowling Tournament - 2026
DESCRIPTION:PSDIC 20th Anniversary Bowling Tournament – 2026 \nJoin us as we celebrate 20 incredible years of PSDIC at our biggest and best tournament yet! The 20th Annual PSDIC Bowling Tournament will take place October 15–18\, 2026\, at Palm Springs Lanes and promises unforgettable bowling\, fun events\, and anniversary-level excitement. \nThis milestone year features a guaranteed $30\,000 prize fund\, welcoming up to 336 bowlers from near and far. During Team Event\, we’ll once again host our popular Palm Springs Poker\, with a special 20th Anniversary edition giving bowlers the chance to win additional cash prizes. \nTo better accommodate our local bowlers\, the Thursday shift will start later\, allowing plenty of time to arrive after work—just like a normal league night. \nOur host hotel for 2026 will be the DoubleTree by Hilton in Cathedral City\, offering comfort\, convenience\, and a great home base for the weekend. \nWe’re also thrilled to welcome back Luchador as our banquet host! This year’s banquet will feature even more food\, and every attendee will receive a complimentary drink as we toast to 20 years of PSDIC. \n🗓 Registration opens June 1\, 2026🌐 Sign up at psdic.org \nCome celebrate the legacy\, the community\, and the future of PSDIC—20 years strong and still rolling!
URL:https://www.igbo.org/tournament/psdic/
LOCATION:Palm Springs Lanes\, 68051 Ramon Rd\, Cathedral City\, CA\, 92234\, United States
CATEGORIES:West Coast/Pacific Nations
ATTACH;FMTTYPE=image/png:https://www.igbo.org/wp-content/uploads/2024/12/psdic20.png
ORGANIZER;CN="Jay Kanner":MAILTO:info@psdic.org
END:VEVENT
BEGIN:VEVENT
DTSTART;VALUE=DATE:20261030
DTEND;VALUE=DATE:20261102
DTSTAMP:20260419T222116
CREATED:20241230T043456Z
LAST-MODIFIED:20241230T043456Z
UID:32876-1793318400-1793577599@www.igbo.org
SUMMARY:Cincinnati Tri-State Invitational
DESCRIPTION:CINTIT (Cincinnati Tri-State Invitational Tournament) is a non-profit organization that promotes social and service awareness throughout the Greater Cincinnati/Tri-State region. While the organization is formed through LGBT (Lesbian\, Gay\, Bisexual\, and Transgender) fellowship\, the organization’s focus provides outreach and support for all aspects of our community. \nThrough fundraising efforts and community service events\, CINTIT assists organizations such as Caracole of Cincinnati and Mercy Connections. By holding our tournaments\, fundraisers\, and events\, we attempt to provide fellowship for everyone\, regardless of background. We appreciate the support of our sponsors and look forward to many more years of continued community involvement.
URL:https://www.igbo.org/tournament/cincinnati-tri-state-invitational/
LOCATION:Super Bowl Bellewood\, 1211 Waterworks Road\, Newport\, KY\, 41071\, United States
CATEGORIES:North American Heartland
ATTACH;FMTTYPE=image/png:https://www.igbo.org/wp-content/uploads/2024/12/CINTIT-Cincinnati-Bolwing.png
ORGANIZER;CN="James Siefke":MAILTO:cintitdirector@yahoo.com
END:VEVENT
BEGIN:VEVENT
DTSTART;VALUE=DATE:20261030
DTEND;VALUE=DATE:20261102
DTSTAMP:20260419T222116
CREATED:20260105T011933Z
LAST-MODIFIED:20260105T012011Z
UID:32866-1793318400-1793577599@www.igbo.org
SUMMARY:CHIT - Capital Halloween Invitational Tournament
DESCRIPTION:Come join us Oct30-Nov1 for the 2026 CHIT Tournament. \nBowling Center is Bowl America Shirley. 40 lanes house\, 38 will be used. \nHost hotel – we are working on finalizing contract for Hyatt Regency in Crystal City which is the same venue as last year. \nFriday – No Tap \nSaturday – Doubles\, lunch\, Teams \nSunday – Singles\, Banquet
URL:https://www.igbo.org/tournament/capital-halloween-invitational/
LOCATION:Bowlero Shirley\, 6450 Esdall Rd\, Alexandria\, VA\, 22312\, United States
CATEGORIES:Northeast/Europe
ATTACH;FMTTYPE=image/jpeg:https://www.igbo.org/wp-content/uploads/2026/01/IMG_4016.jpg
ORGANIZER;CN="Steve Frable":MAILTO:chitdc@gmail.com
END:VEVENT
BEGIN:VEVENT
DTSTART;TZID=America/Chicago:20261106T183000
DTEND;TZID=America/Chicago:20261108T170000
DTSTAMP:20260419T222116
CREATED:20241230T045335Z
LAST-MODIFIED:20250129T023938Z
UID:32908-1793989800-1794157200@www.igbo.org
SUMMARY:Houston Invitational
DESCRIPTION:
URL:https://www.igbo.org/tournament/houston-invitational/
LOCATION:Copperfield Bowl\, 15615 Glen Chase Dr\, Houston\, TX\, 77095\, United States
CATEGORIES:Central Plains
ATTACH;FMTTYPE=image/png:https://www.igbo.org/wp-content/uploads/2024/12/Houston-Invitational.png
ORGANIZER;CN="Ron Connors-Ehlert":MAILTO:houstoninvitationaltournament@gmail.com
END:VEVENT
BEGIN:VEVENT
DTSTART;VALUE=DATE:20261113
DTEND;VALUE=DATE:20261116
DTSTAMP:20260419T222116
CREATED:20241230T045750Z
LAST-MODIFIED:20260205T194136Z
UID:32919-1794528000-1794787199@www.igbo.org
SUMMARY:Los Angeles Silver Screen Invitational
DESCRIPTION:
URL:https://www.igbo.org/tournament/lassi/
LOCATION:Cal Bowl\, 2500 E Carson St\, Lakewood\, CA\, 90712\, United States
CATEGORIES:West Coast/Pacific Nations
ATTACH;FMTTYPE=image/png:https://www.igbo.org/wp-content/uploads/2025/03/Artboard-1@2x.png
ORGANIZER;CN="LASSI Contact":MAILTO:info@lassibowl.org
END:VEVENT
BEGIN:VEVENT
DTSTART;VALUE=DATE:20270320
DTEND;VALUE=DATE:20270323
DTSTAMP:20260419T222116
CREATED:20250105T115044Z
LAST-MODIFIED:20250106T044845Z
UID:33149-1805500800-1805759999@www.igbo.org
SUMMARY:'Burgh Area Rainbow Bowling Invitational
DESCRIPTION:BARBI 2027 Dates are currently TBD\,  complete with: \n\n\nAn optional Friday night 9-Pin No-Tap Tournament \n\n\nA host hotel and hospitality suite \n\n\nAnd a Sunday evening awards banquet to close out the weekend in style \n\n\nWhether you’re a competitive bowler\, a social roller\, or somewhere in between\, BARBI is here to create a fun\, inclusive\, and community-driven experience for all. \nRegistration is scheduled to open TBD​Be sure to follow our Facebook page for the latest updates and key event information.​
URL:https://www.igbo.org/tournament/burgh-area-rainbow-bowling-invitational/
LOCATION:Bowlero Pittsburgh\, 2440 Noblestown Rd\, Pittsburgh\, PA\, 15205\, United States
CATEGORIES:Northeast/Europe
ATTACH;FMTTYPE=image/png:https://www.igbo.org/wp-content/uploads/2025/05/Barbi-Pink-Pins.png
ORGANIZER;CN="Christopher Shiloff":MAILTO:barbi.directors@barbipittsburgh.org
END:VEVENT
END:VCALENDAR